BEGIN:VCALENDAR
VERSION:2.0
PRODID:icalendar-ruby
CALSCALE:GREGORIAN
METHOD:PUBLISH
BEGIN:VEVENT
DTSTAMP:20260423T213444Z
UID:8-1591648@lawsonheightsalliance.com
DTSTART:20261004T173000Z
DTEND:20261004T190000Z
CLASS:PUBLIC
CREATED:20260423T125802
DESCRIPTION:We invite you to join us every Sunday in person at 10:30am as w
 e worship God together or online on our youtube channel. If you'd like to 
 make a donation 1) click on Give or 2) send an etransfer to lawsonalliance
 @sasktel.net.
LAST-MODIFIED:20260423T125802
LOCATION:Lawson Heights Alliance Church
SUMMARY:Sunday Morning Worship
URL;VALUE=URI:https://www.lawsonheightsalliance.com/events/sunday-morning-w
 orship/2026-10-04
ATTACH;FILENAME=IMG_2620 2.jpeg;FMTTYPE=image/jpeg:https://dq5pwpg1q8ru0.cl
 oudfront.net/2021/08/31/09/31/03/18f1e743-9451-4c4b-abc1-fafea746dcad/IMG_
 2620%202.jpeg
END:VEVENT
END:VCALENDAR
