BEGIN:VCALENDAR
VERSION:2.0
PRODID:icalendar-ruby
CALSCALE:GREGORIAN
METHOD:PUBLISH
BEGIN:VEVENT
DTSTAMP:20260421T101447Z
UID:98-1502547@lawsonheightsalliance.com
DTSTART;VALUE=DATE:20260612
DTEND;VALUE=DATE:20260614
CLASS:PUBLIC
CREATED:20260409T073922
DESCRIPTION:Sign up at the Welcome Centre
LAST-MODIFIED:20260409T073922
LOCATION:Big River Bible Camp
SUMMARY:Men's Fishing Trip
URL;VALUE=URI:https://www.lawsonheightsalliance.com/events/mens-fishing-tri
 p/2026-06-12
ATTACH;FILENAME=JUNE-12-14-17-x-11-in.png;FMTTYPE=image/png:https://dq5pwpg
 1q8ru0.cloudfront.net/2026/04/09/14/39/21/a9f9eb1e-f165-45fb-bcab-ad784060
 565f/JUNE-12-14-17-x-11-in.png
END:VEVENT
END:VCALENDAR
