BEGIN:VCALENDAR
VERSION:2.0
PRODID:icalendar-ruby
CALSCALE:GREGORIAN
METHOD:PUBLISH
BEGIN:VEVENT
DTSTAMP:20260424T225325Z
UID:10-1599283@lawsonheightsalliance.com
DTSTART:20261103T173000Z
DTEND:20261103T183000Z
CLASS:PUBLIC
CREATED:20260424T153109
DESCRIPTION:Ladies Walking Workout
LAST-MODIFIED:20260424T153109
LOCATION:Gym
SUMMARY:Ladies Walking Workout
URL;VALUE=URI:https://www.lawsonheightsalliance.com/events/ladies-walking-w
 orkout/2026-11-03
END:VEVENT
END:VCALENDAR
