BEGIN:VCALENDAR
VERSION:2.0
PRODID:icalendar-ruby
CALSCALE:GREGORIAN
METHOD:PUBLISH
BEGIN:VEVENT
DTSTAMP:20260424T211421Z
UID:10-1598229@lawsonheightsalliance.com
DTSTART:20261027T163000Z
DTEND:20261027T173000Z
CLASS:PUBLIC
CREATED:20260424T124321
DESCRIPTION:Ladies Walking Workout
LAST-MODIFIED:20260424T124321
LOCATION:Gym
SUMMARY:Ladies Walking Workout
URL;VALUE=URI:https://www.lawsonheightsalliance.com/events/ladies-walking-w
 orkout/2026-10-27
END:VEVENT
END:VCALENDAR
