BEGIN:VCALENDAR
VERSION:2.0
PRODID:icalendar-ruby
CALSCALE:GREGORIAN
METHOD:PUBLISH
BEGIN:VEVENT
DTSTAMP:20260424T163109Z
UID:10-1596122@lawsonheightsalliance.com
DTSTART:20261006T163000Z
DTEND:20261006T173000Z
CLASS:PUBLIC
CREATED:20260424T070740
DESCRIPTION:Ladies Walking Workout
LAST-MODIFIED:20260424T070740
LOCATION:Gym
SUMMARY:Ladies Walking Workout
URL;VALUE=URI:https://www.lawsonheightsalliance.com/events/ladies-walking-w
 orkout/2026-10-06
END:VEVENT
END:VCALENDAR
