BEGIN:VCALENDAR
VERSION:2.0
PRODID:icalendar-ruby
CALSCALE:GREGORIAN
METHOD:PUBLISH
BEGIN:VEVENT
DTSTAMP:20260424T125600Z
UID:10-1595068@lawsonheightsalliance.com
DTSTART:20260922T163000Z
DTEND:20260922T173000Z
CLASS:PUBLIC
CREATED:20260424T041340
DESCRIPTION:Ladies Walking Workout
LAST-MODIFIED:20260424T041340
LOCATION:Gym
SUMMARY:Ladies Walking Workout
URL;VALUE=URI:https://www.lawsonheightsalliance.com/events/ladies-walking-w
 orkout/2026-09-22
END:VEVENT
END:VCALENDAR
